BEGIN:VCALENDAR
VERSION:2.0
CALSCALE:GREGORIAN
PRODID:adamgibbons/ics
METHOD:PUBLISH
X-PUBLISHED-TTL:PT1H
BEGIN:VEVENT
UID:373@tucsontimeline.info
SUMMARY:Subconscious Art Exploration Workshop
DTSTAMP:20260423T031557Z
DTSTART:20250922T000000Z
DTEND:20250922T013000Z
DESCRIPTION:Subconscious Art Exploration is a guided\, meditative art works
	hop where you\nwill:\n\n * Tap into your subconscious\n\n * Work through s
	tuck emotions\n\n * Learn about yourself in a low-pressure environment\n\n
	 * Be led through a guided group meditation and create free-flow artwork\n
	\nBuy tickets here\n[https://checkout.square.site/merchant/ML0EAEMBCGSVT/c
	heckout/VKXDVBFDWDWFBWOKTEVLYNDC]\,\nor pay what you can at the door.
URL:https://tucsontimeline.info/event/subconscious-art-exploration-workshop
	-10
LOCATION:Celestia Collective - 1122 North Stone Avenue\, Tucson\, AZ 85705
STATUS:CONFIRMED
CATEGORIES:art,artclass,class,Drawing workshop,group meditation,meditation,
	Workshop
X-ALT-DESC;FMTTYPE=text/html:<p>Subconscious Art Exploration is a guided, m
	editative art workshop where you will:</p><ul><li><p>Tap into your subcons
	cious</p></li><li><p>Work through stuck emotions</p></li><li><p>Learn abou
	t yourself in a low-pressure environment</p></li><li><p>Be led through a g
	uided group meditation and create free-flow artwork</p></li></ul><p><a hre
	f="https://checkout.square.site/merchant/ML0EAEMBCGSVT/checkout/VKXDVBFDWD
	WFBWOKTEVLYNDC" target="_blank">Buy tickets here</a>, or pay what you can 
	at the door.</p>
END:VEVENT
BEGIN:VEVENT
UID:372@tucsontimeline.info
SUMMARY:Subconscious Art Exploration Workshop
DTSTAMP:20260423T031557Z
DTSTART:20250915T000000Z
DTEND:20250915T013000Z
DESCRIPTION:Subconscious Art Exploration is a guided\, meditative art works
	hop where you\nwill:\n\n * Tap into your subconscious\n\n * Work through s
	tuck emotions\n\n * Learn about yourself in a low-pressure environment\n\n
	 * Be led through a guided group meditation and create free-flow artwork\n
	\nBuy tickets here\n[https://checkout.square.site/merchant/ML0EAEMBCGSVT/c
	heckout/VKXDVBFDWDWFBWOKTEVLYNDC]\,\nor pay what you can at the door.
URL:https://tucsontimeline.info/event/subconscious-art-exploration-workshop
	-9
LOCATION:Celestia Collective - 1122 North Stone Avenue\, Tucson\, AZ 85705
STATUS:CONFIRMED
CATEGORIES:art,artclass,class,Drawing workshop,group meditation,meditation,
	Workshop
X-ALT-DESC;FMTTYPE=text/html:<p>Subconscious Art Exploration is a guided, m
	editative art workshop where you will:</p><ul><li><p>Tap into your subcons
	cious</p></li><li><p>Work through stuck emotions</p></li><li><p>Learn abou
	t yourself in a low-pressure environment</p></li><li><p>Be led through a g
	uided group meditation and create free-flow artwork</p></li></ul><p><a tar
	get="_blank" href="https://checkout.square.site/merchant/ML0EAEMBCGSVT/che
	ckout/VKXDVBFDWDWFBWOKTEVLYNDC">Buy tickets here</a>, or pay what you can 
	at the door.</p>
END:VEVENT
BEGIN:VEVENT
UID:371@tucsontimeline.info
SUMMARY:Subconscious Art Exploration Workshop
DTSTAMP:20260423T031557Z
DTSTART:20250908T000000Z
DTEND:20250908T013000Z
DESCRIPTION:Subconscious Art Exploration is a guided\, meditative art works
	hop where you\nwill:\n\n * Tap into your subconscious\n\n * Work through s
	tuck emotions\n\n * Learn about yourself in a low-pressure environment\n\n
	 * Be led through a guided group meditation and create free-flow artwork\n
	\nBuy tickets here\n[https://checkout.square.site/merchant/ML0EAEMBCGSVT/c
	heckout/VKXDVBFDWDWFBWOKTEVLYNDC]\,\nor pay what you can at the door.
URL:https://tucsontimeline.info/event/subconscious-art-exploration-workshop
	-8
LOCATION:Celestia Collective - 1122 North Stone Avenue\, Tucson\, AZ 85705
STATUS:CONFIRMED
CATEGORIES:art,artclass,class,Drawing workshop,group meditation,meditation,
	Workshop
X-ALT-DESC;FMTTYPE=text/html:<p>Subconscious Art Exploration is a guided, m
	editative art workshop where you will:</p><ul><li><p>Tap into your subcons
	cious</p></li><li><p>Work through stuck emotions</p></li><li><p>Learn abou
	t yourself in a low-pressure environment</p></li><li><p>Be led through a g
	uided group meditation and create free-flow artwork</p></li></ul><p><a hre
	f="https://checkout.square.site/merchant/ML0EAEMBCGSVT/checkout/VKXDVBFDWD
	WFBWOKTEVLYNDC" target="_blank">Buy tickets here</a>, or pay what you can 
	at the door.</p>
END:VEVENT
BEGIN:VEVENT
UID:370@tucsontimeline.info
SUMMARY:Subconscious Art Exploration Workshop
DTSTAMP:20260423T031557Z
DTSTART:20250901T000000Z
DTEND:20250901T013000Z
DESCRIPTION:Subconscious Art Exploration is a guided\, meditative art works
	hop where you\nwill:\n\n * Tap into your subconscious\n\n * Work through s
	tuck emotions\n\n * Learn about yourself in a low-pressure environment\n\n
	 * Be led through a guided group meditation and create free-flow artwork\n
	\nBuy tickets here\n[https://checkout.square.site/merchant/ML0EAEMBCGSVT/c
	heckout/VKXDVBFDWDWFBWOKTEVLYNDC]\,\nor pay what you can at the door.
URL:https://tucsontimeline.info/event/subconscious-art-exploration-workshop
	-7
LOCATION:Celestia Collective - 1122 North Stone Avenue\, Tucson\, AZ 85705
STATUS:CONFIRMED
CATEGORIES:art,artclass,class,Drawing workshop,group meditation,meditation,
	Workshop
X-ALT-DESC;FMTTYPE=text/html:<p>Subconscious Art Exploration is a guided, m
	editative art workshop where you will:</p><ul><li><p>Tap into your subcons
	cious</p></li><li><p>Work through stuck emotions</p></li><li><p>Learn abou
	t yourself in a low-pressure environment</p></li><li><p>Be led through a g
	uided group meditation and create free-flow artwork</p></li></ul><p><a tar
	get="_blank" href="https://checkout.square.site/merchant/ML0EAEMBCGSVT/che
	ckout/VKXDVBFDWDWFBWOKTEVLYNDC">Buy tickets here</a>, or pay what you can 
	at the door.</p>
END:VEVENT
BEGIN:VEVENT
UID:369@tucsontimeline.info
SUMMARY:Subconscious Art Exploration Workshop
DTSTAMP:20260423T031557Z
DTSTART:20250825T000000Z
DTEND:20250825T013000Z
DESCRIPTION:Subconscious Art Exploration is a guided\, meditative art works
	hop where you\nwill:\n\n * Tap into your subconscious\n\n * Work through s
	tuck emotions\n\n * Learn about yourself in a low-pressure environment\n\n
	 * Be led through a guided group meditation and create free-flow artwork\n
	\nBuy tickets here\n[https://checkout.square.site/merchant/ML0EAEMBCGSVT/c
	heckout/VKXDVBFDWDWFBWOKTEVLYNDC]\,\nor pay what you can at the door.
URL:https://tucsontimeline.info/event/subconscious-art-exploration-workshop
	-6
LOCATION:Celestia Collective - 1122 North Stone Avenue\, Tucson\, AZ 85705
STATUS:CONFIRMED
CATEGORIES:art,artclass,class,Drawing workshop,group meditation,meditation,
	Workshop
X-ALT-DESC;FMTTYPE=text/html:<p>Subconscious Art Exploration is a guided, m
	editative art workshop where you will:</p><ul><li><p>Tap into your subcons
	cious</p></li><li><p>Work through stuck emotions</p></li><li><p>Learn abou
	t yourself in a low-pressure environment</p></li><li><p>Be led through a g
	uided group meditation and create free-flow artwork</p></li></ul><p><a hre
	f="https://checkout.square.site/merchant/ML0EAEMBCGSVT/checkout/VKXDVBFDWD
	WFBWOKTEVLYNDC" target="_blank">Buy tickets here</a>, or pay what you can 
	at the door.</p>
END:VEVENT
BEGIN:VEVENT
UID:368@tucsontimeline.info
SUMMARY:Subconscious Art Exploration Workshop
DTSTAMP:20260423T031557Z
DTSTART:20250818T000000Z
DTEND:20250818T013000Z
DESCRIPTION:Subconscious Art Exploration is a guided\, meditative art works
	hop where you\nwill:\n\n * Tap into your subconscious\n\n * Work through s
	tuck emotions\n\n * Learn about yourself in a low-pressure environment\n\n
	 * Be led through a guided group meditation and create free-flow artwork\n
	\nBuy tickets here\n[https://checkout.square.site/merchant/ML0EAEMBCGSVT/c
	heckout/VKXDVBFDWDWFBWOKTEVLYNDC]\,\nor pay what you can at the door.
URL:https://tucsontimeline.info/event/subconscious-art-exploration-workshop
	-5
LOCATION:Celestia Collective - 1122 North Stone Avenue\, Tucson\, AZ 85705
STATUS:CONFIRMED
CATEGORIES:art,artclass,class,Drawing workshop,group meditation,meditation,
	Workshop
X-ALT-DESC;FMTTYPE=text/html:<p>Subconscious Art Exploration is a guided, m
	editative art workshop where you will:</p><ul><li><p>Tap into your subcons
	cious</p></li><li><p>Work through stuck emotions</p></li><li><p>Learn abou
	t yourself in a low-pressure environment</p></li><li><p>Be led through a g
	uided group meditation and create free-flow artwork</p></li></ul><p><a tar
	get="_blank" href="https://checkout.square.site/merchant/ML0EAEMBCGSVT/che
	ckout/VKXDVBFDWDWFBWOKTEVLYNDC">Buy tickets here</a>, or pay what you can 
	at the door.</p>
END:VEVENT
END:VCALENDAR
